BEGIN:VCALENDAR
VERSION:2.0
PRODID:-//1000 Islands Hotel Alexandria Bay NY Riveredge Resort - ECPv6.4.0//NONSGML v1.0//EN
CALSCALE:GREGORIAN
METHOD:PUBLISH
X-WR-CALNAME:1000 Islands Hotel Alexandria Bay NY Riveredge Resort
X-ORIGINAL-URL:https://riveredge.com
X-WR-CALDESC:Events for 1000 Islands Hotel Alexandria Bay NY Riveredge Resort
REFRESH-INTERVAL;VALUE=DURATION:PT1H
X-Robots-Tag:noindex
X-PUBLISHED-TTL:PT1H
BEGIN:VTIMEZONE
TZID:America/New_York
BEGIN:DAYLIGHT
TZOFFSETFROM:-0500
TZOFFSETTO:-0400
TZNAME:EDT
DTSTART:20240310T070000
END:DAYLIGHT
BEGIN:STANDARD
TZOFFSETFROM:-0400
TZOFFSETTO:-0500
TZNAME:EST
DTSTART:20241103T060000
END:STANDARD
END:VTIMEZONE
BEGIN:VEVENT
DTSTART;TZID=America/New_York:20240902T140000
DTEND;TZID=America/New_York:20240902T170000
DTSTAMP:20260423T100656
CREATED:20240903T190013Z
LAST-MODIFIED:20240903T190013Z
UID:1244-1725285600-1725296400@riveredge.com
SUMMARY:Let's Cool One
DESCRIPTION:
URL:https://riveredge.com/event/lets-cool-one-3/
LOCATION:Courtyard
END:VEVENT
END:VCALENDAR