BEGIN:VCALENDAR
VERSION:2.0
PRODID:-//1000 Islands Hotel Alexandria Bay NY Riveredge Resort - ECPv6.4.0//NONSGML v1.0//EN
CALSCALE:GREGORIAN
METHOD:PUBLISH
X-WR-CALNAME:1000 Islands Hotel Alexandria Bay NY Riveredge Resort
X-ORIGINAL-URL:https://riveredge.com
X-WR-CALDESC:Events for 1000 Islands Hotel Alexandria Bay NY Riveredge Resort
REFRESH-INTERVAL;VALUE=DURATION:PT1H
X-Robots-Tag:noindex
X-PUBLISHED-TTL:PT1H
BEGIN:VTIMEZONE
TZID:America/New_York
BEGIN:DAYLIGHT
TZOFFSETFROM:-0500
TZOFFSETTO:-0400
TZNAME:EDT
DTSTART:20250309T070000
END:DAYLIGHT
BEGIN:STANDARD
TZOFFSETFROM:-0400
TZOFFSETTO:-0500
TZNAME:EST
DTSTART:20251102T060000
END:STANDARD
END:VTIMEZONE
BEGIN:VEVENT
DTSTART;TZID=America/New_York:20250719T140000
DTEND;TZID=America/New_York:20250719T180000
DTSTAMP:20260422T203831
CREATED:20250423T184209Z
LAST-MODIFIED:20250423T184209Z
UID:1437-1752933600-1752948000@riveredge.com
SUMMARY:Paul Davie
DESCRIPTION:
URL:https://riveredge.com/event/paul-davie-5/
LOCATION:Courtyard Tiki
END:VEVENT
BEGIN:VEVENT
DTSTART;TZID=America/New_York:20250719T170000
DTEND;TZID=America/New_York:20250719T200000
DTSTAMP:20260422T203831
CREATED:20250423T184243Z
LAST-MODIFIED:20250423T184243Z
UID:1439-1752944400-1752955200@riveredge.com
SUMMARY:Rocky Graziano
DESCRIPTION:
URL:https://riveredge.com/event/rocky-graziano-4/
LOCATION:Channelview Deck
END:VEVENT
END:VCALENDAR