BEGIN:VCALENDAR
VERSION:2.0
PRODID:-//1000 Islands Hotel Alexandria Bay NY Riveredge Resort - ECPv6.4.0//NONSGML v1.0//EN
CALSCALE:GREGORIAN
METHOD:PUBLISH
X-ORIGINAL-URL:https://riveredge.com
X-WR-CALDESC:Events for 1000 Islands Hotel Alexandria Bay NY Riveredge Resort
REFRESH-INTERVAL;VALUE=DURATION:PT1H
X-Robots-Tag:noindex
X-PUBLISHED-TTL:PT1H
BEGIN:VTIMEZONE
TZID:America/New_York
BEGIN:DAYLIGHT
TZOFFSETFROM:-0500
TZOFFSETTO:-0400
TZNAME:EDT
DTSTART:20260308T070000
END:DAYLIGHT
BEGIN:STANDARD
TZOFFSETFROM:-0400
TZOFFSETTO:-0500
TZNAME:EST
DTSTART:20261101T060000
END:STANDARD
END:VTIMEZONE
BEGIN:VEVENT
DTSTART;TZID=America/New_York:20260606T140000
DTEND;TZID=America/New_York:20260606T180000
DTSTAMP:20260422T111057
CREATED:20260326T130143Z
LAST-MODIFIED:20260326T130143Z
UID:1677-1780754400-1780768800@riveredge.com
SUMMARY:Paul Davie
DESCRIPTION:
URL:https://riveredge.com/event/paul-davie-9/
LOCATION:Courtyard Tiki
END:VEVENT
BEGIN:VEVENT
DTSTART;TZID=America/New_York:20260606T170000
DTEND;TZID=America/New_York:20260606T200000
DTSTAMP:20260422T111057
CREATED:20260326T130245Z
LAST-MODIFIED:20260326T130245Z
UID:1679-1780765200-1780776000@riveredge.com
SUMMARY:Katman Duo
DESCRIPTION:
URL:https://riveredge.com/event/katman-duo/
LOCATION:Channelview Deck
END:VEVENT
END:VCALENDAR