BEGIN:VCALENDAR
VERSION:2.0
PRODID:-//1000 Islands Hotel Alexandria Bay NY Riveredge Resort - ECPv6.4.0//NONSGML v1.0//EN
CALSCALE:GREGORIAN
METHOD:PUBLISH
X-WR-CALNAME:1000 Islands Hotel Alexandria Bay NY Riveredge Resort
X-ORIGINAL-URL:https://riveredge.com
X-WR-CALDESC:Events for 1000 Islands Hotel Alexandria Bay NY Riveredge Resort
REFRESH-INTERVAL;VALUE=DURATION:PT1H
X-Robots-Tag:noindex
X-PUBLISHED-TTL:PT1H
BEGIN:VTIMEZONE
TZID:America/New_York
BEGIN:DAYLIGHT
TZOFFSETFROM:-0500
TZOFFSETTO:-0400
TZNAME:EDT
DTSTART:20260308T070000
END:DAYLIGHT
BEGIN:STANDARD
TZOFFSETFROM:-0400
TZOFFSETTO:-0500
TZNAME:EST
DTSTART:20261101T060000
END:STANDARD
END:VTIMEZONE
BEGIN:VEVENT
DTSTART;TZID=America/New_York:20260710T160000
DTEND;TZID=America/New_York:20260710T200000
DTSTAMP:20260422T175319
CREATED:20260326T131840Z
LAST-MODIFIED:20260326T131840Z
UID:1707-1783699200-1783713600@riveredge.com
SUMMARY:Dave Porter
DESCRIPTION:
URL:https://riveredge.com/event/dave-porter-11/
LOCATION:Courtyard Tiki
END:VEVENT
BEGIN:VEVENT
DTSTART;TZID=America/New_York:20260711T140000
DTEND;TZID=America/New_York:20260711T180000
DTSTAMP:20260422T175319
CREATED:20260326T132009Z
LAST-MODIFIED:20260326T132009Z
UID:1709-1783778400-1783792800@riveredge.com
SUMMARY:Bad Husband’s Club Band
DESCRIPTION:
URL:https://riveredge.com/event/bad-husbands-club-band/
LOCATION:Courtyard Tiki
END:VEVENT
BEGIN:VEVENT
DTSTART;TZID=America/New_York:20260711T170000
DTEND;TZID=America/New_York:20260711T200000
DTSTAMP:20260422T175319
CREATED:20260326T132113Z
LAST-MODIFIED:20260326T132113Z
UID:1711-1783789200-1783800000@riveredge.com
SUMMARY:Paul Davie
DESCRIPTION:
URL:https://riveredge.com/event/paul-davie-11/
LOCATION:Channelview Deck
END:VEVENT
BEGIN:VEVENT
DTSTART;TZID=America/New_York:20260717T160000
DTEND;TZID=America/New_York:20260717T200000
DTSTAMP:20260422T175319
CREATED:20260326T132212Z
LAST-MODIFIED:20260326T132212Z
UID:1713-1784304000-1784318400@riveredge.com
SUMMARY:Brian Alexander
DESCRIPTION:
URL:https://riveredge.com/event/brian-alexander-10/
LOCATION:Courtyard Tiki
END:VEVENT
BEGIN:VEVENT
DTSTART;TZID=America/New_York:20260718T140000
DTEND;TZID=America/New_York:20260718T180000
DTSTAMP:20260422T175319
CREATED:20260326T132824Z
LAST-MODIFIED:20260326T132824Z
UID:1715-1784383200-1784397600@riveredge.com
SUMMARY:Sam & Dunes
DESCRIPTION:
URL:https://riveredge.com/event/sam-dunes-2/
LOCATION:Courtyard Tiki
END:VEVENT
BEGIN:VEVENT
DTSTART;TZID=America/New_York:20260718T170000
DTEND;TZID=America/New_York:20260718T200000
DTSTAMP:20260422T175319
CREATED:20260326T132911Z
LAST-MODIFIED:20260326T132911Z
UID:1717-1784394000-1784404800@riveredge.com
SUMMARY:Dennis Veator
DESCRIPTION:
URL:https://riveredge.com/event/dennis-veator-10/
LOCATION:Channelview Deck
END:VEVENT
BEGIN:VEVENT
DTSTART;TZID=America/New_York:20260724T160000
DTEND;TZID=America/New_York:20260724T200000
DTSTAMP:20260422T175319
CREATED:20260326T133047Z
LAST-MODIFIED:20260326T133047Z
UID:1719-1784908800-1784923200@riveredge.com
SUMMARY:DJ Rogers
DESCRIPTION:
URL:https://riveredge.com/event/dj-rogers-11/
LOCATION:Courtyard Tiki
END:VEVENT
BEGIN:VEVENT
DTSTART;TZID=America/New_York:20260725T140000
DTEND;TZID=America/New_York:20260725T180000
DTSTAMP:20260422T175319
CREATED:20260326T133139Z
LAST-MODIFIED:20260326T133139Z
UID:1721-1784988000-1785002400@riveredge.com
SUMMARY:Rocky Graziano
DESCRIPTION:
URL:https://riveredge.com/event/rocky-graziano-9/
LOCATION:Courtyard Tiki
END:VEVENT
BEGIN:VEVENT
DTSTART;TZID=America/New_York:20260725T170000
DTEND;TZID=America/New_York:20260725T200000
DTSTAMP:20260422T175319
CREATED:20260326T133251Z
LAST-MODIFIED:20260326T133251Z
UID:1723-1784998800-1785009600@riveredge.com
SUMMARY:Paul Davie
DESCRIPTION:
URL:https://riveredge.com/event/paul-davie-12/
LOCATION:Channelview Deck
END:VEVENT
BEGIN:VEVENT
DTSTART;TZID=America/New_York:20260731T160000
DTEND;TZID=America/New_York:20260731T200000
DTSTAMP:20260422T175319
CREATED:20260326T133344Z
LAST-MODIFIED:20260326T133344Z
UID:1725-1785513600-1785528000@riveredge.com
SUMMARY:Dave Porter
DESCRIPTION:
URL:https://riveredge.com/event/dave-porter-12/
LOCATION:Courtyard Tiki
END:VEVENT
BEGIN:VEVENT
DTSTART;TZID=America/New_York:20260801T140000
DTEND;TZID=America/New_York:20260801T180000
DTSTAMP:20260422T175319
CREATED:20260326T133625Z
LAST-MODIFIED:20260326T133625Z
UID:1727-1785592800-1785607200@riveredge.com
SUMMARY:Brian Alexander
DESCRIPTION:
URL:https://riveredge.com/event/brian-alexander-11/
LOCATION:Courtyard Tiki
END:VEVENT
BEGIN:VEVENT
DTSTART;TZID=America/New_York:20260801T170000
DTEND;TZID=America/New_York:20260801T200000
DTSTAMP:20260422T175319
CREATED:20260326T133715Z
LAST-MODIFIED:20260326T133715Z
UID:1729-1785603600-1785614400@riveredge.com
SUMMARY:Sam & Dunes
DESCRIPTION:
URL:https://riveredge.com/event/sam-dunes-3/
LOCATION:Channelview Deck
END:VEVENT
BEGIN:VEVENT
DTSTART;TZID=America/New_York:20260807T140000
DTEND;TZID=America/New_York:20260807T180000
DTSTAMP:20260422T175319
CREATED:20260326T133813Z
LAST-MODIFIED:20260326T133813Z
UID:1731-1786111200-1786125600@riveredge.com
SUMMARY:Bad Husband’s Club Band
DESCRIPTION:
URL:https://riveredge.com/event/bad-husbands-club-band-2/
LOCATION:Courtyard Tiki
END:VEVENT
BEGIN:VEVENT
DTSTART;TZID=America/New_York:20260808T140000
DTEND;TZID=America/New_York:20260808T180000
DTSTAMP:20260422T175319
CREATED:20260326T133924Z
LAST-MODIFIED:20260326T133924Z
UID:1733-1786197600-1786212000@riveredge.com
SUMMARY:Rocky Graziano
DESCRIPTION:
URL:https://riveredge.com/event/rocky-graziano-10/
LOCATION:Courtyard Tiki
END:VEVENT
BEGIN:VEVENT
DTSTART;TZID=America/New_York:20260808T170000
DTEND;TZID=America/New_York:20260808T200000
DTSTAMP:20260422T175319
CREATED:20260326T134009Z
LAST-MODIFIED:20260326T134009Z
UID:1735-1786208400-1786219200@riveredge.com
SUMMARY:Rose N Thorn Duo
DESCRIPTION:
URL:https://riveredge.com/event/rose-n-thorn-duo-3/
LOCATION:Channelview Deck
END:VEVENT
BEGIN:VEVENT
DTSTART;TZID=America/New_York:20260814T160000
DTEND;TZID=America/New_York:20260814T200000
DTSTAMP:20260422T175319
CREATED:20260326T134050Z
LAST-MODIFIED:20260326T134050Z
UID:1737-1786723200-1786737600@riveredge.com
SUMMARY:Dave Porter
DESCRIPTION:
URL:https://riveredge.com/event/dave-porter-13/
LOCATION:Courtyard Tiki
END:VEVENT
BEGIN:VEVENT
DTSTART;TZID=America/New_York:20260815T140000
DTEND;TZID=America/New_York:20260815T180000
DTSTAMP:20260422T175319
CREATED:20260326T134153Z
LAST-MODIFIED:20260326T134153Z
UID:1739-1786802400-1786816800@riveredge.com
SUMMARY:DJ Rogers
DESCRIPTION:
URL:https://riveredge.com/event/dj-rogers-12/
LOCATION:Courtyard Tiki
END:VEVENT
BEGIN:VEVENT
DTSTART;TZID=America/New_York:20260815T170000
DTEND;TZID=America/New_York:20260815T200000
DTSTAMP:20260422T175319
CREATED:20260326T134249Z
LAST-MODIFIED:20260326T134249Z
UID:1741-1786813200-1786824000@riveredge.com
SUMMARY:Paul Davie
DESCRIPTION:
URL:https://riveredge.com/event/paul-davie-13/
LOCATION:Channelview Deck
END:VEVENT
BEGIN:VEVENT
DTSTART;TZID=America/New_York:20260821T140000
DTEND;TZID=America/New_York:20260821T180000
DTSTAMP:20260422T175319
CREATED:20260326T134331Z
LAST-MODIFIED:20260326T134331Z
UID:1743-1787320800-1787335200@riveredge.com
SUMMARY:John Lerner
DESCRIPTION:
URL:https://riveredge.com/event/john-lerner-4/
LOCATION:Courtyard Tiki
END:VEVENT
BEGIN:VEVENT
DTSTART;TZID=America/New_York:20260822T140000
DTEND;TZID=America/New_York:20260822T180000
DTSTAMP:20260422T175319
CREATED:20260326T134413Z
LAST-MODIFIED:20260326T134413Z
UID:1745-1787407200-1787421600@riveredge.com
SUMMARY:Dennis Veator
DESCRIPTION:
URL:https://riveredge.com/event/dennis-veator-11/
LOCATION:Courtyard Tiki
END:VEVENT
BEGIN:VEVENT
DTSTART;TZID=America/New_York:20260822T170000
DTEND;TZID=America/New_York:20260822T200000
DTSTAMP:20260422T175319
CREATED:20260326T134458Z
LAST-MODIFIED:20260326T134458Z
UID:1747-1787418000-1787428800@riveredge.com
SUMMARY:Dave Porter
DESCRIPTION:
URL:https://riveredge.com/event/dave-porter-14/
LOCATION:Channelview Deck
END:VEVENT
BEGIN:VEVENT
DTSTART;TZID=America/New_York:20260828T160000
DTEND;TZID=America/New_York:20260828T200000
DTSTAMP:20260422T175319
CREATED:20260326T134601Z
LAST-MODIFIED:20260326T135507Z
UID:1749-1787932800-1787947200@riveredge.com
SUMMARY:DJ Rogers
DESCRIPTION:
URL:https://riveredge.com/event/dj-rogers-13/
LOCATION:Courtyard Tiki
END:VEVENT
BEGIN:VEVENT
DTSTART;TZID=America/New_York:20260829T140000
DTEND;TZID=America/New_York:20260829T180000
DTSTAMP:20260422T175319
CREATED:20260326T134636Z
LAST-MODIFIED:20260326T134636Z
UID:1751-1788012000-1788026400@riveredge.com
SUMMARY:Bad Husband’s Club Band
DESCRIPTION:
URL:https://riveredge.com/event/bad-husbands-club-band-3/
LOCATION:Courtyard Tiki
END:VEVENT
BEGIN:VEVENT
DTSTART;TZID=America/New_York:20260829T170000
DTEND;TZID=America/New_York:20260829T200000
DTSTAMP:20260422T175319
CREATED:20260326T134714Z
LAST-MODIFIED:20260326T134714Z
UID:1753-1788022800-1788033600@riveredge.com
SUMMARY:Katman Duo
DESCRIPTION:
URL:https://riveredge.com/event/katman-duo-2/
LOCATION:Channelview Deck
END:VEVENT
BEGIN:VEVENT
DTSTART;TZID=America/New_York:20260904T160000
DTEND;TZID=America/New_York:20260904T200000
DTSTAMP:20260422T175319
CREATED:20260326T134847Z
LAST-MODIFIED:20260326T134847Z
UID:1755-1788537600-1788552000@riveredge.com
SUMMARY:Paul Davie
DESCRIPTION:
URL:https://riveredge.com/event/paul-davie-14/
LOCATION:Courtyard Tiki
END:VEVENT
BEGIN:VEVENT
DTSTART;TZID=America/New_York:20260905T140000
DTEND;TZID=America/New_York:20260905T180000
DTSTAMP:20260422T175319
CREATED:20260326T135703Z
LAST-MODIFIED:20260326T135703Z
UID:1763-1788616800-1788631200@riveredge.com
SUMMARY:Brian Alexander
DESCRIPTION:
URL:https://riveredge.com/event/brian-alexander-12/
LOCATION:Courtyard Tiki
END:VEVENT
BEGIN:VEVENT
DTSTART;TZID=America/New_York:20260905T170000
DTEND;TZID=America/New_York:20260905T200000
DTSTAMP:20260422T175319
CREATED:20260326T135015Z
LAST-MODIFIED:20260326T135015Z
UID:1759-1788627600-1788638400@riveredge.com
SUMMARY:Dave Porter
DESCRIPTION:
URL:https://riveredge.com/event/dave-porter-15/
LOCATION:Channelview Deck
END:VEVENT
BEGIN:VEVENT
DTSTART;TZID=America/New_York:20260906T140000
DTEND;TZID=America/New_York:20260906T180000
DTSTAMP:20260422T175319
CREATED:20260326T135110Z
LAST-MODIFIED:20260326T135110Z
UID:1761-1788703200-1788717600@riveredge.com
SUMMARY:Bad Husband’s Club Band
DESCRIPTION:
URL:https://riveredge.com/event/bad-husbands-club-band-4/
LOCATION:Courtyard Tiki
END:VEVENT
END:VCALENDAR