BEGIN:VCALENDAR
VERSION:2.0
PRODID:-//1000 Islands Hotel Alexandria Bay NY Riveredge Resort - ECPv6.4.0//NONSGML v1.0//EN
CALSCALE:GREGORIAN
METHOD:PUBLISH
X-WR-CALNAME:1000 Islands Hotel Alexandria Bay NY Riveredge Resort
X-ORIGINAL-URL:https://riveredge.com
X-WR-CALDESC:Events for 1000 Islands Hotel Alexandria Bay NY Riveredge Resort
REFRESH-INTERVAL;VALUE=DURATION:PT1H
X-Robots-Tag:noindex
X-PUBLISHED-TTL:PT1H
BEGIN:VTIMEZONE
TZID:America/New_York
BEGIN:DAYLIGHT
TZOFFSETFROM:-0500
TZOFFSETTO:-0400
TZNAME:EDT
DTSTART:20240310T070000
END:DAYLIGHT
BEGIN:STANDARD
TZOFFSETFROM:-0400
TZOFFSETTO:-0500
TZNAME:EST
DTSTART:20241103T060000
END:STANDARD
END:VTIMEZONE
BEGIN:VEVENT
DTSTART;TZID=America/New_York:20240524T180000
DTEND;TZID=America/New_York:20240524T210000
DTSTAMP:20260423T111333
CREATED:20240507T135204Z
LAST-MODIFIED:20240516T205309Z
UID:1128-1716573600-1716584400@riveredge.com
SUMMARY:Let’s Cool One
DESCRIPTION:
URL:https://riveredge.com/event/lets-cool-one/
LOCATION:Courtyard
END:VEVENT
BEGIN:VEVENT
DTSTART;TZID=America/New_York:20240704T180000
DTEND;TZID=America/New_York:20240704T210000
DTSTAMP:20260423T111333
CREATED:20240625T165756Z
LAST-MODIFIED:20240625T165756Z
UID:1214-1720116000-1720126800@riveredge.com
SUMMARY:Let's Cool One
DESCRIPTION:
URL:https://riveredge.com/event/lets-cool-one-2/
LOCATION:Courtyard
END:VEVENT
BEGIN:VEVENT
DTSTART;TZID=America/New_York:20240705T180000
DTEND;TZID=America/New_York:20240705T210000
DTSTAMP:20260423T111333
CREATED:20240517T125017Z
LAST-MODIFIED:20240625T165851Z
UID:1174-1720202400-1720213200@riveredge.com
SUMMARY:Annie in the Water - Acoustic Trio
DESCRIPTION:
URL:https://riveredge.com/event/mike-lashomb/
LOCATION:Courtyard
END:VEVENT
BEGIN:VEVENT
DTSTART;TZID=America/New_York:20240706T140000
DTEND;TZID=America/New_York:20240706T170000
DTSTAMP:20260423T111333
CREATED:20240517T125111Z
LAST-MODIFIED:20240517T125111Z
UID:1177-1720274400-1720285200@riveredge.com
SUMMARY:Moody Octopus
DESCRIPTION:
URL:https://riveredge.com/event/moody-octopus/
LOCATION:Courtyard
END:VEVENT
BEGIN:VEVENT
DTSTART;TZID=America/New_York:20240707T140000
DTEND;TZID=America/New_York:20240707T170000
DTSTAMP:20260423T111333
CREATED:20240625T165939Z
LAST-MODIFIED:20240625T165939Z
UID:1217-1720360800-1720371600@riveredge.com
SUMMARY:Jim Shaffer
DESCRIPTION:
URL:https://riveredge.com/event/jim-shaffer-2/
LOCATION:Courtyard
END:VEVENT
BEGIN:VEVENT
DTSTART;TZID=America/New_York:20240712T180000
DTEND;TZID=America/New_York:20240712T210000
DTSTAMP:20260423T111333
CREATED:20240517T125215Z
LAST-MODIFIED:20240517T125215Z
UID:1179-1720807200-1720818000@riveredge.com
SUMMARY:Nate Marshall
DESCRIPTION:
URL:https://riveredge.com/event/nate-marshall/
LOCATION:Courtyard
END:VEVENT
BEGIN:VEVENT
DTSTART;TZID=America/New_York:20240629T160000
DTEND;TZID=America/New_York:20240629T190000
DTSTAMP:20260423T111333
CREATED:20240517T124908Z
LAST-MODIFIED:20240517T124908Z
UID:1171-1719676800-1719687600@riveredge.com
SUMMARY:John Lerner
DESCRIPTION:
URL:https://riveredge.com/event/john-lerner/
LOCATION:Courtyard
END:VEVENT
BEGIN:VEVENT
DTSTART;TZID=America/New_York:20240719T180000
DTEND;TZID=America/New_York:20240719T210000
DTSTAMP:20260423T111333
CREATED:20240625T170251Z
LAST-MODIFIED:20240625T170251Z
UID:1219-1721412000-1721422800@riveredge.com
SUMMARY:John Lerner
DESCRIPTION:
URL:https://riveredge.com/event/john-lerner-2/
LOCATION:Courtyard
END:VEVENT
BEGIN:VEVENT
DTSTART;TZID=America/New_York:20240726T180000
DTEND;TZID=America/New_York:20240726T210000
DTSTAMP:20260423T111333
CREATED:20240625T170447Z
LAST-MODIFIED:20240625T170447Z
UID:1223-1722016800-1722027600@riveredge.com
SUMMARY:Sirsy
DESCRIPTION:
URL:https://riveredge.com/event/sirsy-2/
LOCATION:Courtyard
END:VEVENT
END:VCALENDAR