BEGIN:VCALENDAR
VERSION:2.0
PRODID:-//1000 Islands Hotel Alexandria Bay NY Riveredge Resort - ECPv6.4.0//NONSGML v1.0//EN
CALSCALE:GREGORIAN
METHOD:PUBLISH
X-WR-CALNAME:1000 Islands Hotel Alexandria Bay NY Riveredge Resort
X-ORIGINAL-URL:https://riveredge.com
X-WR-CALDESC:Events for 1000 Islands Hotel Alexandria Bay NY Riveredge Resort
REFRESH-INTERVAL;VALUE=DURATION:PT1H
X-Robots-Tag:noindex
X-PUBLISHED-TTL:PT1H
BEGIN:VTIMEZONE
TZID:America/New_York
BEGIN:DAYLIGHT
TZOFFSETFROM:-0500
TZOFFSETTO:-0400
TZNAME:EDT
DTSTART:20240310T070000
END:DAYLIGHT
BEGIN:STANDARD
TZOFFSETFROM:-0400
TZOFFSETTO:-0500
TZNAME:EST
DTSTART:20241103T060000
END:STANDARD
END:VTIMEZONE
BEGIN:VEVENT
DTSTART;TZID=America/New_York:20240802T180000
DTEND;TZID=America/New_York:20240802T210000
DTSTAMP:20260423T100219
CREATED:20240724T172800Z
LAST-MODIFIED:20240724T172800Z
UID:1230-1722621600-1722632400@riveredge.com
SUMMARY:Cam Gordon
DESCRIPTION:
URL:https://riveredge.com/event/cam-gordon-2/
LOCATION:Courtyard
END:VEVENT
BEGIN:VEVENT
DTSTART;TZID=America/New_York:20240803T160000
DTEND;TZID=America/New_York:20240803T190000
DTSTAMP:20260423T100219
CREATED:20240517T125940Z
LAST-MODIFIED:20240517T125940Z
UID:1194-1722700800-1722711600@riveredge.com
SUMMARY:Big “D” Duo
DESCRIPTION:
URL:https://riveredge.com/event/big-d-duo/
LOCATION:Courtyard
END:VEVENT
BEGIN:VEVENT
DTSTART;TZID=America/New_York:20240809T180000
DTEND;TZID=America/New_York:20240809T210000
DTSTAMP:20260423T100219
CREATED:20240517T124528Z
LAST-MODIFIED:20240724T174135Z
UID:1163-1723226400-1723237200@riveredge.com
SUMMARY:Cait Devin
DESCRIPTION:
URL:https://riveredge.com/event/cait-devon/
LOCATION:Courtyard
END:VEVENT
BEGIN:VEVENT
DTSTART;TZID=America/New_York:20240810T160000
DTEND;TZID=America/New_York:20240810T190000
DTSTAMP:20260423T100219
CREATED:20240625T170527Z
LAST-MODIFIED:20240724T173255Z
UID:1225-1723305600-1723316400@riveredge.com
SUMMARY:Honey Moonshine Band
DESCRIPTION:
URL:https://riveredge.com/event/honey-moonshine-band-2/
LOCATION:Courtyard
END:VEVENT
BEGIN:VEVENT
DTSTART;TZID=America/New_York:20240816T180000
DTEND;TZID=America/New_York:20240816T210000
DTSTAMP:20260423T100219
CREATED:20240625T170407Z
LAST-MODIFIED:20240724T173557Z
UID:1221-1723831200-1723842000@riveredge.com
SUMMARY:Steve MacLean
DESCRIPTION:
URL:https://riveredge.com/event/steve-maclean-2/
LOCATION:Courtyard
END:VEVENT
BEGIN:VEVENT
DTSTART;TZID=America/New_York:20240817T180000
DTEND;TZID=America/New_York:20240817T210000
DTSTAMP:20260423T100219
CREATED:20240517T124757Z
LAST-MODIFIED:20240724T173536Z
UID:1168-1723917600-1723928400@riveredge.com
SUMMARY:Mother Cover
DESCRIPTION:
URL:https://riveredge.com/event/mother-cover/
LOCATION:Courtyard
END:VEVENT
BEGIN:VEVENT
DTSTART;TZID=America/New_York:20240823T180000
DTEND;TZID=America/New_York:20240823T210000
DTSTAMP:20260423T100219
CREATED:20240724T173707Z
LAST-MODIFIED:20240724T173735Z
UID:1234-1724436000-1724446800@riveredge.com
SUMMARY:Mark Nanni
DESCRIPTION:
URL:https://riveredge.com/event/mark-nanni-2/
LOCATION:Courtyard
END:VEVENT
BEGIN:VEVENT
DTSTART;TZID=America/New_York:20240824T140000
DTEND;TZID=America/New_York:20240824T170000
DTSTAMP:20260423T100219
CREATED:20240517T125340Z
LAST-MODIFIED:20240724T173940Z
UID:1181-1724508000-1724518800@riveredge.com
SUMMARY:Travis Rocco
DESCRIPTION:
URL:https://riveredge.com/event/travis-rocco/
LOCATION:Courtyard
END:VEVENT
BEGIN:VEVENT
DTSTART;TZID=America/New_York:20240830T180000
DTEND;TZID=America/New_York:20240830T210000
DTSTAMP:20260423T100219
CREATED:20240507T135355Z
LAST-MODIFIED:20240724T173823Z
UID:1136-1725040800-1725051600@riveredge.com
SUMMARY:John McConnell
DESCRIPTION:
URL:https://riveredge.com/event/john-mcconnell/
LOCATION:Courtyard
END:VEVENT
BEGIN:VEVENT
DTSTART;TZID=America/New_York:20240830T180000
DTEND;TZID=America/New_York:20240830T210000
DTSTAMP:20260423T100219
CREATED:20240507T135355Z
LAST-MODIFIED:20240724T173823Z
UID:1136-1725040800-1725051600@riveredge.com
SUMMARY:John McConnell
DESCRIPTION:
URL:https://riveredge.com/event/john-mcconnell/
LOCATION:Courtyard
END:VEVENT
BEGIN:VEVENT
DTSTART;TZID=America/New_York:20240831T160000
DTEND;TZID=America/New_York:20240831T190000
DTSTAMP:20260423T100219
CREATED:20240724T174101Z
LAST-MODIFIED:20240724T174101Z
UID:1236-1725120000-1725130800@riveredge.com
SUMMARY:John McConnell
DESCRIPTION:
URL:https://riveredge.com/event/john-mcconnell-2/
LOCATION:Courtyard
END:VEVENT
END:VCALENDAR