BEGIN:VCALENDAR
VERSION:2.0
PRODID:-//1000 Islands Hotel Alexandria Bay NY Riveredge Resort - ECPv6.4.0//NONSGML v1.0//EN
CALSCALE:GREGORIAN
METHOD:PUBLISH
X-WR-CALNAME:1000 Islands Hotel Alexandria Bay NY Riveredge Resort
X-ORIGINAL-URL:https://riveredge.com
X-WR-CALDESC:Events for 1000 Islands Hotel Alexandria Bay NY Riveredge Resort
REFRESH-INTERVAL;VALUE=DURATION:PT1H
X-Robots-Tag:noindex
X-PUBLISHED-TTL:PT1H
BEGIN:VTIMEZONE
TZID:America/New_York
BEGIN:DAYLIGHT
TZOFFSETFROM:-0500
TZOFFSETTO:-0400
TZNAME:EDT
DTSTART:20240310T070000
END:DAYLIGHT
BEGIN:STANDARD
TZOFFSETFROM:-0400
TZOFFSETTO:-0500
TZNAME:EST
DTSTART:20241103T060000
END:STANDARD
END:VTIMEZONE
BEGIN:VEVENT
DTSTART;TZID=America/New_York:20241002T170000
DTEND;TZID=America/New_York:20241002T200000
DTSTAMP:20260423T071330
CREATED:20240924T171438Z
LAST-MODIFIED:20240924T171438Z
UID:1285-1727888400-1727899200@riveredge.com
SUMMARY:Brittany Cean
DESCRIPTION:
URL:https://riveredge.com/event/brittany-cean-7/
LOCATION:Riverwatch
END:VEVENT
BEGIN:VEVENT
DTSTART;TZID=America/New_York:20241004T170000
DTEND;TZID=America/New_York:20241004T200000
DTSTAMP:20260423T071330
CREATED:20240924T171529Z
LAST-MODIFIED:20240924T171529Z
UID:1287-1728061200-1728072000@riveredge.com
SUMMARY:Tyler Sorrell
DESCRIPTION:
URL:https://riveredge.com/event/tyler-sorrell-3/
LOCATION:Riverwatch
END:VEVENT
BEGIN:VEVENT
DTSTART;TZID=America/New_York:20241005T170000
DTEND;TZID=America/New_York:20241005T200000
DTSTAMP:20260423T071330
CREATED:20240924T171635Z
LAST-MODIFIED:20240924T171635Z
UID:1289-1728147600-1728158400@riveredge.com
SUMMARY:Steve MacLean
DESCRIPTION:
URL:https://riveredge.com/event/steve-maclean/
LOCATION:Riverwatch
END:VEVENT
BEGIN:VEVENT
DTSTART;TZID=America/New_York:20241009T170000
DTEND;TZID=America/New_York:20241009T200000
DTSTAMP:20260423T071330
CREATED:20240924T171724Z
LAST-MODIFIED:20240924T171724Z
UID:1291-1728493200-1728504000@riveredge.com
SUMMARY:Brittany Cean
DESCRIPTION:
URL:https://riveredge.com/event/brittany-cean-8/
LOCATION:Riverwatch
END:VEVENT
BEGIN:VEVENT
DTSTART;TZID=America/New_York:20241011T170000
DTEND;TZID=America/New_York:20241011T200000
DTSTAMP:20260423T071330
CREATED:20240924T171810Z
LAST-MODIFIED:20240924T171810Z
UID:1293-1728666000-1728676800@riveredge.com
SUMMARY:Brittany Cean
DESCRIPTION:
URL:https://riveredge.com/event/brittany-cean-9/
LOCATION:Riverwatch
END:VEVENT
BEGIN:VEVENT
DTSTART;TZID=America/New_York:20241012T170000
DTEND;TZID=America/New_York:20241012T200000
DTSTAMP:20260423T071330
CREATED:20240924T171856Z
LAST-MODIFIED:20240924T171856Z
UID:1295-1728752400-1728763200@riveredge.com
SUMMARY:Rob Hirschey
DESCRIPTION:
URL:https://riveredge.com/event/rob-hirschey/
LOCATION:Riverwatch
END:VEVENT
BEGIN:VEVENT
DTSTART;TZID=America/New_York:20241016T170000
DTEND;TZID=America/New_York:20241016T200000
DTSTAMP:20260423T071330
CREATED:20240924T171937Z
LAST-MODIFIED:20240924T171937Z
UID:1297-1729098000-1729108800@riveredge.com
SUMMARY:Phil Dumond
DESCRIPTION:
URL:https://riveredge.com/event/phil-dumond-2/
LOCATION:Riverwatch
END:VEVENT
BEGIN:VEVENT
DTSTART;TZID=America/New_York:20241018T170000
DTEND;TZID=America/New_York:20241018T200000
DTSTAMP:20260423T071330
CREATED:20240924T172009Z
LAST-MODIFIED:20240924T172009Z
UID:1299-1729270800-1729281600@riveredge.com
SUMMARY:Cam Caruso
DESCRIPTION:
URL:https://riveredge.com/event/cam-caruso-2/
LOCATION:Riverwatch
END:VEVENT
BEGIN:VEVENT
DTSTART;TZID=America/New_York:20241019T170000
DTEND;TZID=America/New_York:20241019T200000
DTSTAMP:20260423T071330
CREATED:20240924T172049Z
LAST-MODIFIED:20240924T172049Z
UID:1301-1729357200-1729368000@riveredge.com
SUMMARY:Cait Devin
DESCRIPTION:
URL:https://riveredge.com/event/cait-devin/
LOCATION:Riverwatch
END:VEVENT
BEGIN:VEVENT
DTSTART;TZID=America/New_York:20241025T170000
DTEND;TZID=America/New_York:20241025T200000
DTSTAMP:20260423T071330
CREATED:20240924T172121Z
LAST-MODIFIED:20240924T172121Z
UID:1303-1729875600-1729886400@riveredge.com
SUMMARY:John McConnell
DESCRIPTION:
URL:https://riveredge.com/event/john-mcconnell-3/
LOCATION:Riverwatch
END:VEVENT
BEGIN:VEVENT
DTSTART;TZID=America/New_York:20241026T170000
DTEND;TZID=America/New_York:20241026T200000
DTSTAMP:20260423T071330
CREATED:20240924T173914Z
LAST-MODIFIED:20240924T173914Z
UID:1305-1729962000-1729972800@riveredge.com
SUMMARY:Phil Dumond
DESCRIPTION:
URL:https://riveredge.com/event/phil-dumond-3/
LOCATION:Riverwatch
END:VEVENT
END:VCALENDAR