BEGIN:VCALENDAR
VERSION:2.0
PRODID:-//1000 Islands Hotel Alexandria Bay NY Riveredge Resort - ECPv6.4.0//NONSGML v1.0//EN
CALSCALE:GREGORIAN
METHOD:PUBLISH
X-WR-CALNAME:1000 Islands Hotel Alexandria Bay NY Riveredge Resort
X-ORIGINAL-URL:https://riveredge.com
X-WR-CALDESC:Events for 1000 Islands Hotel Alexandria Bay NY Riveredge Resort
REFRESH-INTERVAL;VALUE=DURATION:PT1H
X-Robots-Tag:noindex
X-PUBLISHED-TTL:PT1H
BEGIN:VTIMEZONE
TZID:America/New_York
BEGIN:DAYLIGHT
TZOFFSETFROM:-0500
TZOFFSETTO:-0400
TZNAME:EDT
DTSTART:20240310T070000
END:DAYLIGHT
BEGIN:STANDARD
TZOFFSETFROM:-0400
TZOFFSETTO:-0500
TZNAME:EST
DTSTART:20241103T060000
END:STANDARD
END:VTIMEZONE
BEGIN:VEVENT
DTSTART;TZID=America/New_York:20241101T170000
DTEND;TZID=America/New_York:20241101T200000
DTSTAMP:20260423T055009
CREATED:20241029T194129Z
LAST-MODIFIED:20241029T194129Z
UID:1320-1730480400-1730491200@riveredge.com
SUMMARY:Tyler Sorrell
DESCRIPTION:
URL:https://riveredge.com/event/tyler-sorrell-4/
LOCATION:Riverwatch
END:VEVENT
BEGIN:VEVENT
DTSTART;TZID=America/New_York:20241102T140000
DTEND;TZID=America/New_York:20241102T140000
DTSTAMP:20260423T055009
CREATED:20241029T194239Z
LAST-MODIFIED:20241029T194627Z
UID:1322-1730556000-1730556000@riveredge.com
SUMMARY:Music Fest
DESCRIPTION:*$5 entry fee per person
URL:https://riveredge.com/event/music-fest/
LOCATION:Riverwatch
END:VEVENT
BEGIN:VEVENT
DTSTART;TZID=America/New_York:20241108T170000
DTEND;TZID=America/New_York:20241108T200000
DTSTAMP:20260423T055009
CREATED:20241029T194409Z
LAST-MODIFIED:20241029T194409Z
UID:1324-1731085200-1731096000@riveredge.com
SUMMARY:Jake Desormo
DESCRIPTION:
URL:https://riveredge.com/event/jake-desormo/
LOCATION:Riverwatch
END:VEVENT
BEGIN:VEVENT
DTSTART;TZID=America/New_York:20241109T170000
DTEND;TZID=America/New_York:20241109T200000
DTSTAMP:20260423T055009
CREATED:20241029T194439Z
LAST-MODIFIED:20241029T194439Z
UID:1326-1731171600-1731182400@riveredge.com
SUMMARY:Brittany Cean
DESCRIPTION:
URL:https://riveredge.com/event/brittany-cean-10/
LOCATION:Riverwatch
END:VEVENT
BEGIN:VEVENT
DTSTART;TZID=America/New_York:20241115T170000
DTEND;TZID=America/New_York:20241115T200000
DTSTAMP:20260423T055009
CREATED:20241029T194520Z
LAST-MODIFIED:20241029T194520Z
UID:1328-1731690000-1731700800@riveredge.com
SUMMARY:Cam Caruso
DESCRIPTION:
URL:https://riveredge.com/event/cam-caruso-3/
LOCATION:Riverwatch
END:VEVENT
BEGIN:VEVENT
DTSTART;TZID=America/New_York:20241116T140000
DTEND;TZID=America/New_York:20241116T140000
DTSTAMP:20260423T055009
CREATED:20241029T194607Z
LAST-MODIFIED:20241029T194706Z
UID:1330-1731765600-1731765600@riveredge.com
SUMMARY:Music Fest
DESCRIPTION:*$5 entry fee per person
URL:https://riveredge.com/event/music-fest-2/
LOCATION:Riverwatch
END:VEVENT
BEGIN:VEVENT
DTSTART;TZID=America/New_York:20241122T170000
DTEND;TZID=America/New_York:20241122T200000
DTSTAMP:20260423T055009
CREATED:20241029T194759Z
LAST-MODIFIED:20241029T194759Z
UID:1333-1732294800-1732305600@riveredge.com
SUMMARY:Phil Dumond
DESCRIPTION:
URL:https://riveredge.com/event/phil-dumond-4/
LOCATION:Riverwatch
END:VEVENT
BEGIN:VEVENT
DTSTART;TZID=America/New_York:20241123T170000
DTEND;TZID=America/New_York:20241123T200000
DTSTAMP:20260423T055009
CREATED:20241029T194836Z
LAST-MODIFIED:20241029T194836Z
UID:1335-1732381200-1732392000@riveredge.com
SUMMARY:Joey Collins
DESCRIPTION:
URL:https://riveredge.com/event/joey-collins-2/
LOCATION:Riverwatch
END:VEVENT
BEGIN:VEVENT
DTSTART;TZID=America/New_York:20241129T170000
DTEND;TZID=America/New_York:20241129T200000
DTSTAMP:20260423T055009
CREATED:20241029T194903Z
LAST-MODIFIED:20241029T194903Z
UID:1337-1732899600-1732910400@riveredge.com
SUMMARY:John McConnell
DESCRIPTION:
URL:https://riveredge.com/event/john-mcconnell-4/
LOCATION:Riverwatch
END:VEVENT
END:VCALENDAR