BEGIN:VCALENDAR
VERSION:2.0
PRODID:-//1000 Islands Hotel Alexandria Bay NY Riveredge Resort - ECPv6.4.0//NONSGML v1.0//EN
CALSCALE:GREGORIAN
METHOD:PUBLISH
X-WR-CALNAME:1000 Islands Hotel Alexandria Bay NY Riveredge Resort
X-ORIGINAL-URL:https://riveredge.com
X-WR-CALDESC:Events for 1000 Islands Hotel Alexandria Bay NY Riveredge Resort
REFRESH-INTERVAL;VALUE=DURATION:PT1H
X-Robots-Tag:noindex
X-PUBLISHED-TTL:PT1H
BEGIN:VTIMEZONE
TZID:America/New_York
BEGIN:DAYLIGHT
TZOFFSETFROM:-0500
TZOFFSETTO:-0400
TZNAME:EDT
DTSTART:20250309T070000
END:DAYLIGHT
BEGIN:STANDARD
TZOFFSETFROM:-0400
TZOFFSETTO:-0500
TZNAME:EST
DTSTART:20251102T060000
END:STANDARD
END:VTIMEZONE
BEGIN:VEVENT
DTSTART;TZID=America/New_York:20250511T100000
DTEND;TZID=America/New_York:20250511T140000
DTSTAMP:20260422T214928
CREATED:20250423T182159Z
LAST-MODIFIED:20250423T182159Z
UID:1379-1746957600-1746972000@riveredge.com
SUMMARY:Mother's Day Brunch
DESCRIPTION:
URL:https://riveredge.com/event/mothers-day-brunch/
LOCATION:Windows on the Bay
END:VEVENT
BEGIN:VEVENT
DTSTART;TZID=America/New_York:20250523T160000
DTEND;TZID=America/New_York:20250523T200000
DTSTAMP:20260422T214928
CREATED:20250423T182354Z
LAST-MODIFIED:20250423T182354Z
UID:1381-1748016000-1748030400@riveredge.com
SUMMARY:Dennis Veator
DESCRIPTION:
URL:https://riveredge.com/event/dennis-veator/
LOCATION:Courtyard Tiki
END:VEVENT
BEGIN:VEVENT
DTSTART;TZID=America/New_York:20250524T140000
DTEND;TZID=America/New_York:20250524T180000
DTSTAMP:20260422T214928
CREATED:20250423T182431Z
LAST-MODIFIED:20250423T182431Z
UID:1384-1748095200-1748109600@riveredge.com
SUMMARY:Paul Davie
DESCRIPTION:
URL:https://riveredge.com/event/paul-davie/
LOCATION:Courtyard Tiki
END:VEVENT
BEGIN:VEVENT
DTSTART;TZID=America/New_York:20250525T140000
DTEND;TZID=America/New_York:20250525T180000
DTSTAMP:20260422T214928
CREATED:20250423T182457Z
LAST-MODIFIED:20250423T182457Z
UID:1386-1748181600-1748196000@riveredge.com
SUMMARY:DJ Rogers
DESCRIPTION:
URL:https://riveredge.com/event/dj-rogers/
LOCATION:Courtyard Tiki
END:VEVENT
BEGIN:VEVENT
DTSTART;TZID=America/New_York:20250530T160000
DTEND;TZID=America/New_York:20250530T200000
DTSTAMP:20260422T214928
CREATED:20250423T182535Z
LAST-MODIFIED:20250423T182535Z
UID:1388-1748620800-1748635200@riveredge.com
SUMMARY:Brian Alexander
DESCRIPTION:
URL:https://riveredge.com/event/brian-alexander-3/
LOCATION:Courtyard Tiki
END:VEVENT
BEGIN:VEVENT
DTSTART;TZID=America/New_York:20250531T140000
DTEND;TZID=America/New_York:20250531T180000
DTSTAMP:20260422T214928
CREATED:20250423T182605Z
LAST-MODIFIED:20250423T182605Z
UID:1390-1748700000-1748714400@riveredge.com
SUMMARY:Dave Porter
DESCRIPTION:
URL:https://riveredge.com/event/dave-porter/
LOCATION:Courtyard Tiki
END:VEVENT
END:VCALENDAR