BEGIN:VCALENDAR
VERSION:2.0
PRODID:-//1000 Islands Hotel Alexandria Bay NY Riveredge Resort - ECPv6.4.0//NONSGML v1.0//EN
CALSCALE:GREGORIAN
METHOD:PUBLISH
X-WR-CALNAME:1000 Islands Hotel Alexandria Bay NY Riveredge Resort
X-ORIGINAL-URL:https://riveredge.com
X-WR-CALDESC:Events for 1000 Islands Hotel Alexandria Bay NY Riveredge Resort
REFRESH-INTERVAL;VALUE=DURATION:PT1H
X-Robots-Tag:noindex
X-PUBLISHED-TTL:PT1H
BEGIN:VTIMEZONE
TZID:America/New_York
BEGIN:DAYLIGHT
TZOFFSETFROM:-0500
TZOFFSETTO:-0400
TZNAME:EDT
DTSTART:20250309T070000
END:DAYLIGHT
BEGIN:STANDARD
TZOFFSETFROM:-0400
TZOFFSETTO:-0500
TZNAME:EST
DTSTART:20251102T060000
END:STANDARD
END:VTIMEZONE
BEGIN:VEVENT
DTSTART;TZID=America/New_York:20250606T160000
DTEND;TZID=America/New_York:20250606T200000
DTSTAMP:20260422T203932
CREATED:20250423T182638Z
LAST-MODIFIED:20250423T183617Z
UID:1392-1749225600-1749240000@riveredge.com
SUMMARY:Mark Macri
DESCRIPTION:
URL:https://riveredge.com/event/marc-macri/
LOCATION:Courtyard Tiki
END:VEVENT
BEGIN:VEVENT
DTSTART;TZID=America/New_York:20250607T140000
DTEND;TZID=America/New_York:20250607T180000
DTSTAMP:20260422T203933
CREATED:20250423T182726Z
LAST-MODIFIED:20250423T182726Z
UID:1394-1749304800-1749319200@riveredge.com
SUMMARY:Paul Davie
DESCRIPTION:
URL:https://riveredge.com/event/paul-davie-2/
LOCATION:Courtyard Tiki
END:VEVENT
BEGIN:VEVENT
DTSTART;TZID=America/New_York:20250607T170000
DTEND;TZID=America/New_York:20250607T200000
DTSTAMP:20260422T203933
CREATED:20250423T182802Z
LAST-MODIFIED:20250423T182802Z
UID:1396-1749315600-1749326400@riveredge.com
SUMMARY:Dennis Veator
DESCRIPTION:
URL:https://riveredge.com/event/dennis-veator-2/
LOCATION:Channelview Deck
END:VEVENT
BEGIN:VEVENT
DTSTART;TZID=America/New_York:20250613T160000
DTEND;TZID=America/New_York:20250613T200000
DTSTAMP:20260422T203933
CREATED:20250423T182840Z
LAST-MODIFIED:20250423T182840Z
UID:1399-1749830400-1749844800@riveredge.com
SUMMARY:Letizia Duo
DESCRIPTION:
URL:https://riveredge.com/event/letizia-duo/
LOCATION:Courtyard Tiki
END:VEVENT
BEGIN:VEVENT
DTSTART;TZID=America/New_York:20250614T140000
DTEND;TZID=America/New_York:20250614T180000
DTSTAMP:20260422T203933
CREATED:20250423T182913Z
LAST-MODIFIED:20250423T182913Z
UID:1401-1749909600-1749924000@riveredge.com
SUMMARY:Rocky Graziano
DESCRIPTION:
URL:https://riveredge.com/event/rocky-graziano/
LOCATION:Courtyard Tiki
END:VEVENT
BEGIN:VEVENT
DTSTART;TZID=America/New_York:20250614T170000
DTEND;TZID=America/New_York:20250614T200000
DTSTAMP:20260422T203933
CREATED:20250423T182954Z
LAST-MODIFIED:20250423T182954Z
UID:1403-1749920400-1749931200@riveredge.com
SUMMARY:Letizia Duo
DESCRIPTION:
URL:https://riveredge.com/event/letizia-duo-2/
LOCATION:Channelview Deck
END:VEVENT
BEGIN:VEVENT
DTSTART;TZID=America/New_York:20250620T160000
DTEND;TZID=America/New_York:20250620T200000
DTSTAMP:20260422T203933
CREATED:20250423T183031Z
LAST-MODIFIED:20250423T183031Z
UID:1405-1750435200-1750449600@riveredge.com
SUMMARY:Mark Macri
DESCRIPTION:
URL:https://riveredge.com/event/mark-macri/
LOCATION:Courtyard Tiki
END:VEVENT
BEGIN:VEVENT
DTSTART;TZID=America/New_York:20250621T140000
DTEND;TZID=America/New_York:20250621T180000
DTSTAMP:20260422T203933
CREATED:20250423T183104Z
LAST-MODIFIED:20250423T183104Z
UID:1407-1750514400-1750528800@riveredge.com
SUMMARY:Dennis Veator
DESCRIPTION:
URL:https://riveredge.com/event/dennis-veator-3/
LOCATION:Courtyard Tiki
END:VEVENT
BEGIN:VEVENT
DTSTART;TZID=America/New_York:20250621T170000
DTEND;TZID=America/New_York:20250621T200000
DTSTAMP:20260422T203933
CREATED:20250423T183133Z
LAST-MODIFIED:20250423T183133Z
UID:1409-1750525200-1750536000@riveredge.com
SUMMARY:Paul Davie
DESCRIPTION:
URL:https://riveredge.com/event/paul-davie-3/
LOCATION:Channelview Deck
END:VEVENT
BEGIN:VEVENT
DTSTART;TZID=America/New_York:20250627T160000
DTEND;TZID=America/New_York:20250627T200000
DTSTAMP:20260422T203933
CREATED:20250423T183359Z
LAST-MODIFIED:20250423T183359Z
UID:1411-1751040000-1751054400@riveredge.com
SUMMARY:Dave Porter
DESCRIPTION:
URL:https://riveredge.com/event/dave-porter-2/
LOCATION:Courtyard Tiki
END:VEVENT
BEGIN:VEVENT
DTSTART;TZID=America/New_York:20250628T140000
DTEND;TZID=America/New_York:20250628T180000
DTSTAMP:20260422T203933
CREATED:20250423T183427Z
LAST-MODIFIED:20250423T183427Z
UID:1413-1751119200-1751133600@riveredge.com
SUMMARY:Rocky Graziano
DESCRIPTION:
URL:https://riveredge.com/event/rocky-graziano-2/
LOCATION:Courtyard Tiki
END:VEVENT
BEGIN:VEVENT
DTSTART;TZID=America/New_York:20250628T170000
DTEND;TZID=America/New_York:20250628T200000
DTSTAMP:20260422T203933
CREATED:20250423T183451Z
LAST-MODIFIED:20250423T183451Z
UID:1415-1751130000-1751140800@riveredge.com
SUMMARY:Dave Porter
DESCRIPTION:
URL:https://riveredge.com/event/dave-porter-3/
LOCATION:Channelview Deck
END:VEVENT
END:VCALENDAR